BEGIN:VCALENDAR
VERSION:2.0
PRODID:-//JJ Vaquero - ECPv6.15.19//NONSGML v1.0//EN
CALSCALE:GREGORIAN
METHOD:PUBLISH
X-ORIGINAL-URL:https://www.jjvaquero.com
X-WR-CALDESC:Eventos para JJ Vaquero
REFRESH-INTERVAL;VALUE=DURATION:PT1H
X-Robots-Tag:noindex
X-PUBLISHED-TTL:PT1H
BEGIN:VTIMEZONE
TZID:Europe/Madrid
BEGIN:DAYLIGHT
TZOFFSETFROM:+0100
TZOFFSETTO:+0200
TZNAME:CEST
DTSTART:20240331T010000
END:DAYLIGHT
BEGIN:STANDARD
TZOFFSETFROM:+0200
TZOFFSETTO:+0100
TZNAME:CET
DTSTART:20241027T010000
END:STANDARD
BEGIN:DAYLIGHT
TZOFFSETFROM:+0100
TZOFFSETTO:+0200
TZNAME:CEST
DTSTART:20250330T010000
END:DAYLIGHT
BEGIN:STANDARD
TZOFFSETFROM:+0200
TZOFFSETTO:+0100
TZNAME:CET
DTSTART:20251026T010000
END:STANDARD
BEGIN:DAYLIGHT
TZOFFSETFROM:+0100
TZOFFSETTO:+0200
TZNAME:CEST
DTSTART:20260329T010000
END:DAYLIGHT
BEGIN:STANDARD
TZOFFSETFROM:+0200
TZOFFSETTO:+0100
TZNAME:CET
DTSTART:20261025T010000
END:STANDARD
BEGIN:DAYLIGHT
TZOFFSETFROM:+0100
TZOFFSETTO:+0200
TZNAME:CEST
DTSTART:20270328T010000
END:DAYLIGHT
BEGIN:STANDARD
TZOFFSETFROM:+0200
TZOFFSETTO:+0100
TZNAME:CET
DTSTART:20271031T010000
END:STANDARD
END:VTIMEZONE
BEGIN:VEVENT
DTSTART;TZID=Europe/Madrid:20260116T203000
DTEND;TZID=Europe/Madrid:20260116T203000
DTSTAMP:20260420T144114
CREATED:20260107T143250Z
LAST-MODIFIED:20260107T143254Z
UID:2205-1768595400-1768595400@www.jjvaquero.com
SUMMARY:Vaquero en Valdemoro
DESCRIPTION:
URL:https://www.jjvaquero.com/event/vaquero-en-valdemoro/
LOCATION:Teatro Municipal Juan Prado\, C. Estrella de Elola\, 27\, Valdemoro\, Madrid\, 28341
ATTACH;FMTTYPE=image/jpeg:https://www.jjvaquero.com/wp-content/uploads/2026/01/a0126651-0fbe-4142-ac2a-1a4932841e54.jpg
END:VEVENT
BEGIN:VEVENT
DTSTART;TZID=Europe/Madrid:20260109T203000
DTEND;TZID=Europe/Madrid:20260109T203000
DTSTAMP:20260420T144114
CREATED:20260107T143542Z
LAST-MODIFIED:20260107T143640Z
UID:2208-1767990600-1767990600@www.jjvaquero.com
SUMMARY:Vaquero en Zamora
DESCRIPTION:
URL:https://www.jjvaquero.com/event/vaquero-en-zamora/
LOCATION:Teatro Ramos Carrion\, C. de Ramos Carrión\, 25\, Zamora\, Zamora\, 49001\, España
ATTACH;FMTTYPE=image/jpeg:https://www.jjvaquero.com/wp-content/uploads/2026/01/5e43cecb-88ed-4ffb-9b66-ad9c6c1274bc.jpg
END:VEVENT
BEGIN:VEVENT
DTSTART;TZID=Europe/Madrid:20260108T210000
DTEND;TZID=Europe/Madrid:20260108T210000
DTSTAMP:20260420T144114
CREATED:20260107T143801Z
LAST-MODIFIED:20260107T143812Z
UID:2210-1767906000-1767906000@www.jjvaquero.com
SUMMARY:Vaquero & Clavero en Madrid
DESCRIPTION:
URL:https://www.jjvaquero.com/event/vaquero-clavero-en-madrid-7/
LOCATION:Sala Galileo Galilei\, C. de Galileo\, 100\, Madrid\, Madrid\, 28015\, España
ATTACH;FMTTYPE=image/jpeg:https://www.jjvaquero.com/wp-content/uploads/2026/01/f0f5c803-7383-411b-8e80-d1da84ce6093.jpg
END:VEVENT
BEGIN:VEVENT
DTSTART;TZID=Europe/Madrid:20251226T203000
DTEND;TZID=Europe/Madrid:20251226T203000
DTSTAMP:20260420T144114
CREATED:20251117T154838Z
LAST-MODIFIED:20260107T131026Z
UID:2159-1766781000-1766781000@www.jjvaquero.com
SUMMARY:JJ Vaquero y Martín Luna en Valladolid
DESCRIPTION:
URL:https://www.jjvaquero.com/event/jj-vaquero-y-martin-luna-en-valladolid-2/
LOCATION:Teatro Cervantes Valladolid\, C. del Santuario\, 22\, Valladolid\, Valladolid\, 47002\, Spain
ATTACH;FMTTYPE=image/jpeg:https://www.jjvaquero.com/wp-content/uploads/2025/11/20950587-6d8e-4821-b162-8b5036e7df59.jpg
END:VEVENT
BEGIN:VEVENT
DTSTART;TZID=Europe/Madrid:20251220T193000
DTEND;TZID=Europe/Madrid:20251220T193000
DTSTAMP:20260420T144114
CREATED:20251117T155431Z
LAST-MODIFIED:20260107T131029Z
UID:2162-1766259000-1766259000@www.jjvaquero.com
SUMMARY:Vaquero en Torresandino (Burgos)
DESCRIPTION:
URL:https://www.jjvaquero.com/event/vaquero-en-torresandino-burgos/
LOCATION:Centro de Artes Escenicas (SENPA)\, Plaza Mayor\, n 23\, Torresandino\, Burgos\, 09310\, Spain
ATTACH;FMTTYPE=image/jpeg:https://www.jjvaquero.com/wp-content/uploads/2025/11/bb787724-5f14-44bf-9c5c-978f2a717c5f.jpg
END:VEVENT
BEGIN:VEVENT
DTSTART;TZID=Europe/Madrid:20251219T230000
DTEND;TZID=Europe/Madrid:20251219T230000
DTSTAMP:20260420T144114
CREATED:20251117T155718Z
LAST-MODIFIED:20260107T131030Z
UID:2166-1766185200-1766185200@www.jjvaquero.com
SUMMARY:Vaquero en Honrubia (Cuenca)
DESCRIPTION:
URL:https://www.jjvaquero.com/event/vaquero-en-honrubia-cuenca/
LOCATION:Casa de Cultura Honrubia\, Avenida España\, S/N\, Honrubia\, Cuenca\, Spain
ATTACH;FMTTYPE=image/jpeg:https://www.jjvaquero.com/wp-content/uploads/2025/11/e1444def-2192-4d9b-a0ee-7b0b2f5453b9.jpg
END:VEVENT
BEGIN:VEVENT
DTSTART;TZID=Europe/Madrid:20251218T210000
DTEND;TZID=Europe/Madrid:20251218T210000
DTSTAMP:20260420T144114
CREATED:20251117T154610Z
LAST-MODIFIED:20251117T154614Z
UID:2156-1766091600-1766091600@www.jjvaquero.com
SUMMARY:Vaquero & Clavero en Madrid
DESCRIPTION:
URL:https://www.jjvaquero.com/event/vaquero-clavero-en-madrid-6/
LOCATION:Sala Galileo Galilei\, C. de Galileo\, 100\, Madrid\, Madrid\, 28015\, España
ATTACH;FMTTYPE=image/jpeg:https://www.jjvaquero.com/wp-content/uploads/2025/11/705c2b4f-534f-4500-a05e-bd6042a37569.jpg
END:VEVENT
BEGIN:VEVENT
DTSTART;TZID=Europe/Madrid:20251213T180000
DTEND;TZID=Europe/Madrid:20251223T180000
DTSTAMP:20260420T144114
CREATED:20251203T151729Z
LAST-MODIFIED:20251209T130127Z
UID:2175-1765648800-1766512800@www.jjvaquero.com
SUMMARY:Faltándonos al Respeto en Madrid
DESCRIPTION:
URL:https://www.jjvaquero.com/event/faltandonos-al-respeto-en-madrid/
LOCATION:Teatro Escondido Gran Via\, C. de las Tres Cruces\, 12\, Centro\, Madrid\, Madrid\, 28013\, Spain
ATTACH;FMTTYPE=image/jpeg:https://www.jjvaquero.com/wp-content/uploads/2025/12/6bd3c5f1-9077-4268-9079-3558cb83d285.jpeg
END:VEVENT
BEGIN:VEVENT
DTSTART;TZID=Europe/Madrid:20251212T200000
DTEND;TZID=Europe/Madrid:20251212T200000
DTSTAMP:20260420T144114
CREATED:20251117T161206Z
LAST-MODIFIED:20251117T161211Z
UID:2170-1765569600-1765569600@www.jjvaquero.com
SUMMARY:Vaquero en Salamanca
DESCRIPTION:
URL:https://www.jjvaquero.com/event/vaquero-en-salamanca/
LOCATION:CAEM Salamanca\, Av. de las Artes\, 45-55\, Salamanca\, Salamanca\, Spain
ATTACH;FMTTYPE=image/jpeg:https://www.jjvaquero.com/wp-content/uploads/2025/11/e9ad782d-5646-4788-81c6-b9201f7aae39.jpg
END:VEVENT
BEGIN:VEVENT
DTSTART;TZID=Europe/Madrid:20251205T190000
DTEND;TZID=Europe/Madrid:20251205T190000
DTSTAMP:20260420T144114
CREATED:20251113T212044Z
LAST-MODIFIED:20251113T212048Z
UID:2151-1764961200-1764961200@www.jjvaquero.com
SUMMARY:Mentes Peligrosas en Santander
DESCRIPTION:
URL:https://www.jjvaquero.com/event/mentes-peligrosas-en-santander/
LOCATION:Palacio de Festivales\, C/ Gamazo s/n\, Santander\, Cantabria\, 39004\, Spain
ATTACH;FMTTYPE=image/jpeg:https://www.jjvaquero.com/wp-content/uploads/2025/11/74077db4-0864-4779-b2c8-d8e311dae45a.jpg
END:VEVENT
BEGIN:VEVENT
DTSTART;TZID=Europe/Madrid:20251130T200000
DTEND;TZID=Europe/Madrid:20251130T200000
DTSTAMP:20260420T144114
CREATED:20251106T191235Z
LAST-MODIFIED:20251106T191239Z
UID:2140-1764532800-1764532800@www.jjvaquero.com
SUMMARY:Faltándonos al Respeto
DESCRIPTION:
URL:https://www.jjvaquero.com/event/faltandonos-al-respeto/
LOCATION:Teatro Calderón\, C. de las Angustias\, 1\, Valladolid\, 47003\, Spain
ATTACH;FMTTYPE=image/jpeg:https://www.jjvaquero.com/wp-content/uploads/2025/11/92593f78-f9d9-44b4-b524-726b8ce6113d.jpeg
END:VEVENT
BEGIN:VEVENT
DTSTART;TZID=Europe/Madrid:20251115T200000
DTEND;TZID=Europe/Madrid:20251115T200000
DTSTAMP:20260420T144114
CREATED:20251106T191725Z
LAST-MODIFIED:20251106T191729Z
UID:2147-1763236800-1763236800@www.jjvaquero.com
SUMMARY:Vaquero en Oviedo
DESCRIPTION:
URL:https://www.jjvaquero.com/event/vaquero-en-oviedo/
LOCATION:Teatro Filarmónica\, Calle Mendizábal\, 3\, Oviedo\, Asturias\, 33003\, Spain
ATTACH;FMTTYPE=image/jpeg:https://www.jjvaquero.com/wp-content/uploads/2025/11/ff7f50c4-d011-45ea-b801-d500a75764e9.jpeg
END:VEVENT
BEGIN:VEVENT
DTSTART;TZID=Europe/Madrid:20251114T190000
DTEND;TZID=Europe/Madrid:20251114T190000
DTSTAMP:20260420T144114
CREATED:20251106T190959Z
LAST-MODIFIED:20251106T191003Z
UID:2136-1763146800-1763146800@www.jjvaquero.com
SUMMARY:Madrid Abraza
DESCRIPTION:
URL:https://www.jjvaquero.com/event/madrid-abraza/
LOCATION:Auditorio Mutua Madrileña\, P.º de Eduardo Dato\, 20\, Chamberí\, Madrid\, Madrid\, 28010\, Spain
ATTACH;FMTTYPE=image/jpeg:https://www.jjvaquero.com/wp-content/uploads/2025/11/50fbc9a9-18b1-410e-b496-8914b5a28c11.jpeg
END:VEVENT
BEGIN:VEVENT
DTSTART;TZID=Europe/Madrid:20251113T210000
DTEND;TZID=Europe/Madrid:20251113T210000
DTSTAMP:20260420T144114
CREATED:20250203T182332Z
LAST-MODIFIED:20250203T182335Z
UID:1940-1763067600-1763067600@www.jjvaquero.com
SUMMARY:Vaquero & Clavero en Galileo Galilei
DESCRIPTION:
URL:https://www.jjvaquero.com/event/vaquero-clavero-en-galileo-galilei-4/
LOCATION:Sala Galileo Galilei\, C. de Galileo\, 100\, Madrid\, Madrid\, 28015\, España
ATTACH;FMTTYPE=image/jpeg:https://www.jjvaquero.com/wp-content/uploads/2025/02/5143d48d-f8f6-4a65-b1fd-39342c22720d.jpg
END:VEVENT
BEGIN:VEVENT
DTSTART;TZID=Europe/Madrid:20251108T183000
DTEND;TZID=Europe/Madrid:20251108T183000
DTSTAMP:20260420T144114
CREATED:20251106T190642Z
LAST-MODIFIED:20251106T190652Z
UID:2132-1762626600-1762626600@www.jjvaquero.com
SUMMARY:Vaquero en Burgos
DESCRIPTION:
URL:https://www.jjvaquero.com/event/vaquero-en-burgos-3/
LOCATION:Teatro Cultural Caja de Burgos\, Av. Cantabria\, 3\, Burgos\, Burgos\, 09006\, Spain
ATTACH;FMTTYPE=image/jpeg:https://www.jjvaquero.com/wp-content/uploads/2025/11/2e5c5f14-62a3-46d5-bdd2-8d5d3c1e3cb6.jpeg
END:VEVENT
BEGIN:VEVENT
DTSTART;TZID=Europe/Madrid:20251102T200000
DTEND;TZID=Europe/Madrid:20251102T200000
DTSTAMP:20260420T144114
CREATED:20250923T095906Z
LAST-MODIFIED:20250923T095918Z
UID:2128-1762113600-1762113600@www.jjvaquero.com
SUMMARY:Mentes Peligrosas en Madrid
DESCRIPTION:
URL:https://www.jjvaquero.com/event/mentes-peligrosas-en-madrid/
LOCATION:Gran teatro Caixabank Principe Pio\, Cta. de San Vicente\, 44\, Madrid\, Madrid\, 28008\, Spain
ATTACH;FMTTYPE=image/jpeg:https://www.jjvaquero.com/wp-content/uploads/2025/09/544ef0c8-070d-4957-b580-0ba869f07f12.jpg
END:VEVENT
BEGIN:VEVENT
DTSTART;TZID=Europe/Madrid:20251031T230000
DTEND;TZID=Europe/Madrid:20251031T230000
DTSTAMP:20260420T144114
CREATED:20250813T112020Z
LAST-MODIFIED:20250813T112043Z
UID:2106-1761951600-1761951600@www.jjvaquero.com
SUMMARY:Vaquero en Madrid
DESCRIPTION:
URL:https://www.jjvaquero.com/event/vaquero-en-madrid-2/
LOCATION:Teatro Gran Via\, Gran Vía 66\, Madrid\, Madrid\, 28013\, Spain
ATTACH;FMTTYPE=image/jpeg:https://www.jjvaquero.com/wp-content/uploads/2025/08/3674fde9-1e0e-40b4-8c17-2dec2ff325e5.jpg
END:VEVENT
BEGIN:VEVENT
DTSTART;TZID=Europe/Madrid:20251017T190000
DTEND;TZID=Europe/Madrid:20251018T210000
DTSTAMP:20260420T144114
CREATED:20250923T095401Z
LAST-MODIFIED:20250923T095412Z
UID:2123-1760727600-1760821200@www.jjvaquero.com
SUMMARY:Mentes Peligrosas en Donosti
DESCRIPTION:
URL:https://www.jjvaquero.com/event/mentes-peligrosas-en-donosti/
LOCATION:Auditorio Kursaal\, Zurriola Hiribidea\, 1\, Donosti\, Gipúzcoa\, 20002\, Spain
ATTACH;FMTTYPE=image/jpeg:https://www.jjvaquero.com/wp-content/uploads/2025/09/42671cee-3a8a-4216-9a54-02dfce8073fe.jpg
END:VEVENT
BEGIN:VEVENT
DTSTART;TZID=Europe/Madrid:20251016T210000
DTEND;TZID=Europe/Madrid:20251016T210000
DTSTAMP:20260420T144114
CREATED:20250203T182250Z
LAST-MODIFIED:20250203T182253Z
UID:1938-1760648400-1760648400@www.jjvaquero.com
SUMMARY:Vaquero & Clavero en Galileo Galilei
DESCRIPTION:
URL:https://www.jjvaquero.com/event/vaquero-clavero-en-galileo-galilei-3/
LOCATION:Sala Galileo Galilei\, C. de Galileo\, 100\, Madrid\, Madrid\, 28015\, España
ATTACH;FMTTYPE=image/jpeg:https://www.jjvaquero.com/wp-content/uploads/2025/02/5143d48d-f8f6-4a65-b1fd-39342c22720d.jpg
END:VEVENT
BEGIN:VEVENT
DTSTART;TZID=Europe/Madrid:20251011T200000
DTEND;TZID=Europe/Madrid:20251011T200000
DTSTAMP:20260420T144114
CREATED:20250916T112136Z
LAST-MODIFIED:20250916T112144Z
UID:2117-1760212800-1760212800@www.jjvaquero.com
SUMMARY:Vaquero en Lerma (Burgos)
DESCRIPTION:
URL:https://www.jjvaquero.com/event/vaquero-en-lerma-burgos/
LOCATION:Espacio Escénico La Piedad\, C. Mayor\, 9\, Lerma\, Burgos\, 09340\, Spain
ATTACH;FMTTYPE=image/jpeg:https://www.jjvaquero.com/wp-content/uploads/2025/09/aace9da1-5f47-4fca-b2fe-841188a96150.jpg
END:VEVENT
BEGIN:VEVENT
DTSTART;TZID=Europe/Madrid:20251010T200000
DTEND;TZID=Europe/Madrid:20251010T200000
DTSTAMP:20260420T144114
CREATED:20250916T112623Z
LAST-MODIFIED:20250916T112627Z
UID:2120-1760126400-1760126400@www.jjvaquero.com
SUMMARY:Murcia Sonríe
DESCRIPTION:
URL:https://www.jjvaquero.com/event/murcia-sonrie/
LOCATION:Teatro Circo de Murcia\, C. Enrique Villar\, 11\, Murcia\, Murcia\, 30008\, Spain
ATTACH;FMTTYPE=image/jpeg:https://www.jjvaquero.com/wp-content/uploads/2025/09/0d732197-5aac-43b2-8ea6-e6833838b38f.jpg
END:VEVENT
BEGIN:VEVENT
DTSTART;TZID=Europe/Madrid:20251004T223000
DTEND;TZID=Europe/Madrid:20251004T223000
DTSTAMP:20260420T144114
CREATED:20250916T111914Z
LAST-MODIFIED:20250916T111918Z
UID:2111-1759617000-1759617000@www.jjvaquero.com
SUMMARY:Vaquero en Segovia
DESCRIPTION:
URL:https://www.jjvaquero.com/event/vaquero-en-segovia/
LOCATION:Centro de Usos Múltiples\, Plaza CONSTITUCIÓN 1\, San Cristóbal de Segovia\, Segovia\, 401197\, Spain
ATTACH;FMTTYPE=image/jpeg:https://www.jjvaquero.com/wp-content/uploads/2025/09/7ccb0f50-fe6b-4b57-92a9-1d0fe05baad4.jpg
END:VEVENT
BEGIN:VEVENT
DTSTART;TZID=Europe/Madrid:20250926T200000
DTEND;TZID=Europe/Madrid:20250926T200000
DTSTAMP:20260420T144114
CREATED:20250813T111445Z
LAST-MODIFIED:20250813T111508Z
UID:2102-1758916800-1758916800@www.jjvaquero.com
SUMMARY:Vaquero en Altsasu
DESCRIPTION:
URL:https://www.jjvaquero.com/event/vaquero-en-altsasu/
LOCATION:Centro Cultural IORTIA\, Tr.ª el Frontón\, s/n\, Altsasu\, Navarra\, 31800\, Spain
ATTACH;FMTTYPE=image/jpeg:https://www.jjvaquero.com/wp-content/uploads/2025/08/2b42b088-4002-48e9-aace-b0f04d3d9623.jpg
END:VEVENT
BEGIN:VEVENT
DTSTART;TZID=Europe/Madrid:20250905T200000
DTEND;TZID=Europe/Madrid:20250921T203000
DTSTAMP:20260420T144114
CREATED:20250728T122153Z
LAST-MODIFIED:20250728T122300Z
UID:2095-1757102400-1758486600@www.jjvaquero.com
SUMMARY:Tu a Pucela y nosotros a California
DESCRIPTION:
URL:https://www.jjvaquero.com/event/tu-a-pucela-y-nosotros-a-california/
LOCATION:Auditorio Feria de Valladolid\, C. De Juan II de Castilla\, S/N\, Valladolid\, Valladolid\, 47009\, España
ATTACH;FMTTYPE=image/jpeg:https://www.jjvaquero.com/wp-content/uploads/2025/07/f0c9cd5a-0276-4e1e-b206-971a80e19015.jpg
END:VEVENT
BEGIN:VEVENT
DTSTART;TZID=Europe/Madrid:20250821T220000
DTEND;TZID=Europe/Madrid:20250821T220000
DTSTAMP:20260420T144114
CREATED:20250702T161133Z
LAST-MODIFIED:20250702T161140Z
UID:2074-1755813600-1755813600@www.jjvaquero.com
SUMMARY:Vaquero en Fitero (Navarra)
DESCRIPTION:
URL:https://www.jjvaquero.com/event/vaquero-en-fitero-navarra/
LOCATION:Plaza de los Ábsides\, Plaza de los Ábsides\, Fitero\, Navarra\, 31593\, Spain
ATTACH;FMTTYPE=image/jpeg:https://www.jjvaquero.com/wp-content/uploads/2025/07/658322ef-2fd9-47b5-b140-05048bc2085d.jpg
END:VEVENT
BEGIN:VEVENT
DTSTART;TZID=Europe/Madrid:20250818T220000
DTEND;TZID=Europe/Madrid:20250818T220000
DTSTAMP:20260420T144114
CREATED:20250730T215513Z
LAST-MODIFIED:20250730T215517Z
UID:2099-1755554400-1755554400@www.jjvaquero.com
SUMMARY:Vaquero en Mandala Mirador (Huelva)
DESCRIPTION:
URL:https://www.jjvaquero.com/event/vaquero-en-mandala-mirador-huelva/
LOCATION:Mandala Mirador\, Avenida Manuel Siurot\, S/N\, Huelva\, Huelva\, 21002\, España
ATTACH;FMTTYPE=image/jpeg:https://www.jjvaquero.com/wp-content/uploads/2025/07/a597b7fa-4be8-4b76-950a-11abf261bdd1.jpg
END:VEVENT
BEGIN:VEVENT
DTSTART;TZID=Europe/Madrid:20250816T000000
DTEND;TZID=Europe/Madrid:20250816T000000
DTSTAMP:20260420T144114
CREATED:20250711T195007Z
LAST-MODIFIED:20250711T195011Z
UID:2082-1755302400-1755302400@www.jjvaquero.com
SUMMARY:Vaquero en Encinas de Esgueva (Valladolid)
DESCRIPTION:
URL:https://www.jjvaquero.com/event/vaquero-en-encinas-de-esgueva-valladolid-2/
LOCATION:Madrid
ATTACH;FMTTYPE=image/jpeg:https://www.jjvaquero.com/wp-content/uploads/2025/07/271ba5bf-9c45-4fa5-a3e0-29ecaaf1fe6f.jpg
END:VEVENT
BEGIN:VEVENT
DTSTART;TZID=Europe/Madrid:20250816T000000
DTEND;TZID=Europe/Madrid:20250816T000000
DTSTAMP:20260420T144114
CREATED:20250702T161519Z
LAST-MODIFIED:20250702T161525Z
UID:2078-1755302400-1755302400@www.jjvaquero.com
SUMMARY:Vaquero en Encinas de Esgueva (Valladolid)
DESCRIPTION:
URL:https://www.jjvaquero.com/event/vaquero-en-encinas-de-esgueva-valladolid/
LOCATION:Parque municipal Encinas de Esgueva\, C. Juan Jose Franco\, 10\, Encinas de Esgueva\, Valladolid\, 47186\, Spain
ATTACH;FMTTYPE=image/jpeg:https://www.jjvaquero.com/wp-content/uploads/2025/07/9a6eb166-4313-43b5-a4c4-a0c3b5765430.jpg
END:VEVENT
BEGIN:VEVENT
DTSTART;TZID=Europe/Madrid:20250815T223000
DTEND;TZID=Europe/Madrid:20250815T223000
DTSTAMP:20260420T144114
CREATED:20250716T093704Z
LAST-MODIFIED:20250716T093815Z
UID:2091-1755297000-1755297000@www.jjvaquero.com
SUMMARY:Vaquero en Valverde de Campos (Valladolid)
DESCRIPTION:
URL:https://www.jjvaquero.com/event/vaquero-en-valverde-de-campos-valladolid/
LOCATION:Plaza Mayor de Valverde de Campos\, Plaza Mayor\, 1\, Valverde de Campos\, Valladolid\, 47690\, Spain
ATTACH;FMTTYPE=image/jpeg:https://www.jjvaquero.com/wp-content/uploads/2025/07/bbdae470-3bed-49cb-93fc-1046d3d38d35-scaled.jpg
END:VEVENT
BEGIN:VEVENT
DTSTART;TZID=Europe/Madrid:20250805T220000
DTEND;TZID=Europe/Madrid:20250805T220000
DTSTAMP:20260420T144114
CREATED:20250702T160716Z
LAST-MODIFIED:20250702T160720Z
UID:2070-1754431200-1754431200@www.jjvaquero.com
SUMMARY:Vaquero en La Haba (Badajoz)
DESCRIPTION:
URL:https://www.jjvaquero.com/event/vaquero-en-la-haba-badajoz/
LOCATION:Casa de Cultura La Haba\, Calle Juan Arias\, 1\, La Haba\, Badajoz\, 07614\, Spain
ATTACH;FMTTYPE=image/jpeg:https://www.jjvaquero.com/wp-content/uploads/2025/07/449fd10d-cfd6-4993-9127-dcf31ea19eea.jpg
END:VEVENT
END:VCALENDAR