BEGIN:VCALENDAR
VERSION:2.0
PRODID:-//JJ Vaquero - ECPv6.15.20//NONSGML v1.0//EN
CALSCALE:GREGORIAN
METHOD:PUBLISH
X-WR-CALNAME:JJ Vaquero
X-ORIGINAL-URL:https://www.jjvaquero.com
X-WR-CALDESC:Eventos para JJ Vaquero
REFRESH-INTERVAL;VALUE=DURATION:PT1H
X-Robots-Tag:noindex
X-PUBLISHED-TTL:PT1H
BEGIN:VTIMEZONE
TZID:Europe/Madrid
BEGIN:DAYLIGHT
TZOFFSETFROM:+0100
TZOFFSETTO:+0200
TZNAME:CEST
DTSTART:20250330T010000
END:DAYLIGHT
BEGIN:STANDARD
TZOFFSETFROM:+0200
TZOFFSETTO:+0100
TZNAME:CET
DTSTART:20251026T010000
END:STANDARD
BEGIN:DAYLIGHT
TZOFFSETFROM:+0100
TZOFFSETTO:+0200
TZNAME:CEST
DTSTART:20260329T010000
END:DAYLIGHT
BEGIN:STANDARD
TZOFFSETFROM:+0200
TZOFFSETTO:+0100
TZNAME:CET
DTSTART:20261025T010000
END:STANDARD
BEGIN:DAYLIGHT
TZOFFSETFROM:+0100
TZOFFSETTO:+0200
TZNAME:CEST
DTSTART:20270328T010000
END:DAYLIGHT
BEGIN:STANDARD
TZOFFSETFROM:+0200
TZOFFSETTO:+0100
TZNAME:CET
DTSTART:20271031T010000
END:STANDARD
END:VTIMEZONE
BEGIN:VEVENT
DTSTART;TZID=Europe/Madrid:20260422T223000
DTEND;TZID=Europe/Madrid:20260422T223000
DTSTAMP:20260422T123800
CREATED:20260408T123646Z
LAST-MODIFIED:20260408T123655Z
UID:2246-1776897000-1776897000@www.jjvaquero.com
SUMMARY:Vaquero en Madrigueras (Albacete)
DESCRIPTION:
URL:https://www.jjvaquero.com/event/vaquero-en-madrigueras-albacete/
LOCATION:Salón Cultural De Madrigueras\, C/ Pablo Picasso\, 16\, Madrigueras\, Albacete\, 02230
ATTACH;FMTTYPE=image/jpeg:https://www.jjvaquero.com/wp-content/uploads/2026/04/dcca4e4c-702b-4ba5-a3fe-b048747b4d7c.jpg
END:VEVENT
END:VCALENDAR